BEGIN:VCALENDAR
VERSION:2.0
PRODID:-//CIC - ECPv6.7.0//NONSGML v1.0//EN
CALSCALE:GREGORIAN
METHOD:PUBLISH
X-ORIGINAL-URL:https://constructioncic.ca
X-WR-CALDESC:Events for CIC
REFRESH-INTERVAL;VALUE=DURATION:PT1H
X-Robots-Tag:noindex
X-PUBLISHED-TTL:PT1H
BEGIN:VTIMEZONE
TZID:America/Chicago
BEGIN:DAYLIGHT
TZOFFSETFROM:-0600
TZOFFSETTO:-0500
TZNAME:CDT
DTSTART:20230312T080000
END:DAYLIGHT
BEGIN:STANDARD
TZOFFSETFROM:-0500
TZOFFSETTO:-0600
TZNAME:CST
DTSTART:20231105T070000
END:STANDARD
END:VTIMEZONE
BEGIN:VEVENT
DTSTART;TZID=America/Chicago:20230223T100000
DTEND;TZID=America/Chicago:20230223T130000
DTSTAMP:20260422T142836
CREATED:20230209T184025Z
LAST-MODIFIED:20230209T184415Z
UID:5946-1677146400-1677157200@constructioncic.ca
SUMMARY:CIC Executive Management Committee Meeting
DESCRIPTION:The CIC’s EMC provides advice and feedback on proposed areas of research and provide direction to the CIC. LOIs that have been approved by the SAC move on to the EMC for final approval. PIs of proposed research projects can expect to hear back regarding acceptance\, rejection\, or suggested revisions to their LOIs in the weeks that follow as long as their LOI was submitted to the SAC meeting directly preceding each EMC meeting.
URL:https://constructioncic.ca/event/cic-scientific-advisory-committee-meeting/
LOCATION:Alberta
END:VEVENT
END:VCALENDAR