BEGIN:VCALENDAR
VERSION:2.0
PRODID:-//CIC - ECPv6.7.0//NONSGML v1.0//EN
CALSCALE:GREGORIAN
METHOD:PUBLISH
X-WR-CALNAME:CIC
X-ORIGINAL-URL:https://constructioncic.ca
X-WR-CALDESC:Events for CIC
REFRESH-INTERVAL;VALUE=DURATION:PT1H
X-Robots-Tag:noindex
X-PUBLISHED-TTL:PT1H
BEGIN:VTIMEZONE
TZID:America/Chicago
BEGIN:DAYLIGHT
TZOFFSETFROM:-0600
TZOFFSETTO:-0500
TZNAME:CDT
DTSTART:20210314T080000
END:DAYLIGHT
BEGIN:STANDARD
TZOFFSETFROM:-0500
TZOFFSETTO:-0600
TZNAME:CST
DTSTART:20211107T070000
END:STANDARD
END:VTIMEZONE
BEGIN:VEVENT
DTSTART;TZID=America/Chicago:20211109T080000
DTEND;TZID=America/Chicago:20211109T093000
DTSTAMP:20260422T165648
CREATED:20211201T050247Z
LAST-MODIFIED:20211201T050247Z
UID:4471-1636444800-1636450200@constructioncic.ca
SUMMARY:AI in Construction Researcher Meet-and-Greet
DESCRIPTION:The Construction Innovation Centre (CIC) and the AI4Society Signature Area have joined forces to promote and develop research initiatives that relate to the area of “Artificial Intelligence for the Construction industry“. \nIf you are a researcher interested in the area of AI in Construction\, join us on November 9th from 2:00 pm to 3:30 pm for an online event where you can meet fellow researchers interested in this area\, explore potential overlaps of your research with that of others\, and form new research partnerships! The AI4Society and CIC are jointly providing support for these partnerships\, including introductions to potential industry partners\, grant-development support and seed funding. \nFind out more
URL:https://constructioncic.ca/event/ai-in-construction-researcher-meet-and-greet/
LOCATION:Online
ATTACH;FMTTYPE=image/png:https://constructioncic.ca/wp-content/uploads/2021/10/industry-4-0-technology-concept-smart-factory-fourth-industrial-revolution-1-1.png
END:VEVENT
END:VCALENDAR