BEGIN:VCALENDAR
VERSION:2.0
PRODID:-//CIC - ECPv6.7.0//NONSGML v1.0//EN
CALSCALE:GREGORIAN
METHOD:PUBLISH
X-ORIGINAL-URL:https://constructioncic.ca
X-WR-CALDESC:Events for CIC
REFRESH-INTERVAL;VALUE=DURATION:PT1H
X-Robots-Tag:noindex
X-PUBLISHED-TTL:PT1H
BEGIN:VTIMEZONE
TZID:America/Chicago
BEGIN:DAYLIGHT
TZOFFSETFROM:-0600
TZOFFSETTO:-0500
TZNAME:CDT
DTSTART:20230312T080000
END:DAYLIGHT
BEGIN:STANDARD
TZOFFSETFROM:-0500
TZOFFSETTO:-0600
TZNAME:CST
DTSTART:20231105T070000
END:STANDARD
BEGIN:DAYLIGHT
TZOFFSETFROM:-0600
TZOFFSETTO:-0500
TZNAME:CDT
DTSTART:20240310T080000
END:DAYLIGHT
BEGIN:STANDARD
TZOFFSETFROM:-0500
TZOFFSETTO:-0600
TZNAME:CST
DTSTART:20241103T070000
END:STANDARD
BEGIN:DAYLIGHT
TZOFFSETFROM:-0600
TZOFFSETTO:-0500
TZNAME:CDT
DTSTART:20250309T080000
END:DAYLIGHT
BEGIN:STANDARD
TZOFFSETFROM:-0500
TZOFFSETTO:-0600
TZNAME:CST
DTSTART:20251102T070000
END:STANDARD
END:VTIMEZONE
BEGIN:VEVENT
DTSTART;TZID=America/Chicago:20231019T090000
DTEND;TZID=America/Chicago:20231019T120000
DTSTAMP:20260422T165424
CREATED:20230209T184305Z
LAST-MODIFIED:20230911T204403Z
UID:5950-1697706000-1697716800@constructioncic.ca
SUMMARY:CIC Executive Management Committee Meeting
DESCRIPTION:The CIC’s EMC provides advice and feedback on proposed areas of research and provide direction to the CIC. LOIs that have been approved by the SAC move on to the EMC for final approval. PIs of proposed research projects can expect to hear back regarding acceptance\, rejection\, or suggested revisions to their LOIs in the weeks that follow as long as their LOI was submitted to the SAC meeting directly preceding each EMC meeting.
URL:https://constructioncic.ca/event/cic-executive-management-committee-meeting-2/
LOCATION:Alberta
ATTACH;FMTTYPE=image/png:https://constructioncic.ca/wp-content/uploads/2023/02/EMC-Meeting.png
END:VEVENT
BEGIN:VEVENT
DTSTART;TZID=America/Chicago:20231207T100000
DTEND;TZID=America/Chicago:20231207T130000
DTSTAMP:20260422T165424
CREATED:20230209T184847Z
LAST-MODIFIED:20230314T214548Z
UID:5956-1701943200-1701954000@constructioncic.ca
SUMMARY:CIC Scientific Advisory Committee Meeting
DESCRIPTION:Researchers who wish to submit LOIs to the CIC should remember to submit them a minimum of two weeks in advance of the CIC’s SAC meetings. PIs who submit LOIs to the SAC should expect to hear back regarding acceptance\, rejection\, or suggestions for revisions in the weeks that follow the SAC meeting to which they submitted their LOI\, and may be required to re-submit their revised versions to the SAC for further consideration before they can be forwarded to the Executive Management Committee for final review and potential approval.
URL:https://constructioncic.ca/event/cic-scientific-advisory-committee-meeting-3/
LOCATION:Alberta
ATTACH;FMTTYPE=image/png:https://constructioncic.ca/wp-content/uploads/2023/02/SAC-Meeting.png
END:VEVENT
BEGIN:VEVENT
DTSTART;TZID=America/Chicago:20240223T100000
DTEND;TZID=America/Chicago:20240223T113000
DTSTAMP:20260422T165424
CREATED:20240215T210434Z
LAST-MODIFIED:20240215T210626Z
UID:6744-1708682400-1708687800@constructioncic.ca
SUMMARY:Sustainability in Construction Webinar
DESCRIPTION:You’re invited to attend an online seminar on\nSustainability in Construction\n\n\n\n\n\n\n\n\n \nThe Construction Innovation Centre (CIC)\, the Centre for Innovation in Construction and Infrastructure Engineering and Management (CICIEM) and the Off-site Construction Research Centre are delighted to invite you to attend the CIC‘s first webinar of 2024! Research and industry experts are joining forces to present this seminar on Sustainability in Construction. \nRegister Here
URL:https://constructioncic.ca/event/sustainability-in-construction/
LOCATION:Online
ATTACH;FMTTYPE=image/png:https://constructioncic.ca/wp-content/uploads/2024/02/Sustainability-Webinar-Poster-Copy.png
END:VEVENT
BEGIN:VEVENT
DTSTART;VALUE=DATE:20240612
DTEND;VALUE=DATE:20240614
DTSTAMP:20260422T165424
CREATED:20240226T213452Z
LAST-MODIFIED:20240226T213452Z
UID:6770-1718150400-1718323199@constructioncic.ca
SUMMARY:CIC Forum 2024
DESCRIPTION:
URL:https://constructioncic.ca/event/cic-forum-2024/
LOCATION:University of Alberta\, 116 St & 85 Ave\, Edmonton\, Alberta\, 100012\, Canada
ATTACH;FMTTYPE=image/png:https://constructioncic.ca/wp-content/uploads/2024/02/Save-The-date.png
END:VEVENT
BEGIN:VEVENT
DTSTART;TZID=America/Chicago:20241205T090000
DTEND;TZID=America/Chicago:20241205T120000
DTSTAMP:20260422T165424
CREATED:20241005T000934Z
LAST-MODIFIED:20241005T000934Z
UID:7413-1733389200-1733400000@constructioncic.ca
SUMMARY:CIC Scientific Advisory Committee Meeting
DESCRIPTION:
URL:https://constructioncic.ca/event/cic-scientific-advisory-committee-meeting-4/
LOCATION:University of Alberta\, 116 St & 85 Ave\, Edmonton\, Alberta\, 100012\, Canada
ATTACH;FMTTYPE=image/png:https://constructioncic.ca/wp-content/uploads/2023/02/SAC-Meeting.png
END:VEVENT
BEGIN:VEVENT
DTSTART;TZID=America/Chicago:20250611T070000
DTEND;TZID=America/Chicago:20250611T170000
DTSTAMP:20260422T165424
CREATED:20250430T183415Z
LAST-MODIFIED:20250430T190148Z
UID:7613-1749625200-1749661200@constructioncic.ca
SUMMARY:2025 CIC Forum - Day 1
DESCRIPTION:Join CIC researchers and industry partners on June 11th and 12th\, 2025 for the 2025 CIC Forum! Programming includes presentations\, panel discussions\, demos\, and networking opportunities for all attendees!
URL:https://constructioncic.ca/event/2025-cic-forum-day-1/
LOCATION:University of Alberta\, 116 St & 85 Ave\, Edmonton\, Alberta\, 100012\, Canada
ATTACH;FMTTYPE=image/jpeg:https://constructioncic.ca/wp-content/uploads/2025/04/CIC-Forum-2025-Banner_SQ-1-scaled-e1746039698233.jpg
END:VEVENT
BEGIN:VEVENT
DTSTART;TZID=America/Chicago:20250612T070000
DTEND;TZID=America/Chicago:20250612T170000
DTSTAMP:20260422T165424
CREATED:20250430T183705Z
LAST-MODIFIED:20250430T190247Z
UID:7620-1749711600-1749747600@constructioncic.ca
SUMMARY:2025 CIC Forum - Day 2
DESCRIPTION:Join CIC researchers and industry partners on June 11th and 12th\, 2025 for the 2025 CIC Forum! Programming includes presentations\, panel discussions\, demos\, and networking opportunities for all attendees!
URL:https://constructioncic.ca/event/2025-cic-forum-day-2/
LOCATION:University of Alberta\, 116 St & 85 Ave\, Edmonton\, Alberta\, 100012\, Canada
ATTACH;FMTTYPE=image/jpeg:https://constructioncic.ca/wp-content/uploads/2025/04/CIC-Forum-2025-Banner_SQ-1-scaled-e1746039698233.jpg
END:VEVENT
BEGIN:VEVENT
DTSTART;TZID=America/Chicago:20251112T130000
DTEND;TZID=America/Chicago:20251112T160000
DTSTAMP:20260422T165424
CREATED:20251014T173005Z
LAST-MODIFIED:20251102T013143Z
UID:7955-1762952400-1762963200@constructioncic.ca
SUMMARY:CIC Open House
DESCRIPTION:Attend the CIC Open House to explore our cutting-edge facilities and meet world-class researchers who are driving the latest breakthroughs in construction innovation and technology! \nRegister Here
URL:https://constructioncic.ca/event/cic-open-house-2/
LOCATION:University of Alberta\, 116 St & 85 Ave\, Edmonton\, Alberta\, 100012\, Canada
ATTACH;FMTTYPE=image/png:https://constructioncic.ca/wp-content/uploads/2025/10/CIC-Open-House-Poster-2025-1.png
END:VEVENT
END:VCALENDAR