BEGIN:VCALENDAR
VERSION:2.0
PRODID:-//CIC - ECPv6.7.0//NONSGML v1.0//EN
CALSCALE:GREGORIAN
METHOD:PUBLISH
X-WR-CALNAME:CIC
X-ORIGINAL-URL:https://constructioncic.ca
X-WR-CALDESC:Events for CIC
REFRESH-INTERVAL;VALUE=DURATION:PT1H
X-Robots-Tag:noindex
X-PUBLISHED-TTL:PT1H
BEGIN:VTIMEZONE
TZID:America/Chicago
BEGIN:DAYLIGHT
TZOFFSETFROM:-0600
TZOFFSETTO:-0500
TZNAME:CDT
DTSTART:20230312T080000
END:DAYLIGHT
BEGIN:STANDARD
TZOFFSETFROM:-0500
TZOFFSETTO:-0600
TZNAME:CST
DTSTART:20231105T070000
END:STANDARD
END:VTIMEZONE
BEGIN:VEVENT
DTSTART;TZID=America/Chicago:20231207T100000
DTEND;TZID=America/Chicago:20231207T130000
DTSTAMP:20260422T011902
CREATED:20230209T184847Z
LAST-MODIFIED:20230314T214548Z
UID:5956-1701943200-1701954000@constructioncic.ca
SUMMARY:CIC Scientific Advisory Committee Meeting
DESCRIPTION:Researchers who wish to submit LOIs to the CIC should remember to submit them a minimum of two weeks in advance of the CIC’s SAC meetings. PIs who submit LOIs to the SAC should expect to hear back regarding acceptance\, rejection\, or suggestions for revisions in the weeks that follow the SAC meeting to which they submitted their LOI\, and may be required to re-submit their revised versions to the SAC for further consideration before they can be forwarded to the Executive Management Committee for final review and potential approval.
URL:https://constructioncic.ca/event/cic-scientific-advisory-committee-meeting-3/
LOCATION:Alberta
ATTACH;FMTTYPE=image/png:https://constructioncic.ca/wp-content/uploads/2023/02/SAC-Meeting.png
END:VEVENT
END:VCALENDAR