BEGIN:VCALENDAR
VERSION:2.0
PRODID:-//CIC - ECPv6.7.0//NONSGML v1.0//EN
CALSCALE:GREGORIAN
METHOD:PUBLISH
X-ORIGINAL-URL:https://constructioncic.ca
X-WR-CALDESC:Events for CIC
REFRESH-INTERVAL;VALUE=DURATION:PT1H
X-Robots-Tag:noindex
X-PUBLISHED-TTL:PT1H
BEGIN:VTIMEZONE
TZID:America/Chicago
BEGIN:DAYLIGHT
TZOFFSETFROM:-0600
TZOFFSETTO:-0500
TZNAME:CDT
DTSTART:20230312T080000
END:DAYLIGHT
BEGIN:STANDARD
TZOFFSETFROM:-0500
TZOFFSETTO:-0600
TZNAME:CST
DTSTART:20231105T070000
END:STANDARD
END:VTIMEZONE
BEGIN:VEVENT
DTSTART;TZID=America/Chicago:20230428T130000
DTEND;TZID=America/Chicago:20230428T150000
DTSTAMP:20260422T125523
CREATED:20230314T212931Z
LAST-MODIFIED:20230314T212931Z
UID:5968-1682686800-1682694000@constructioncic.ca
SUMMARY:CIC Open House
DESCRIPTION:
URL:https://constructioncic.ca/event/cic-open-house/
LOCATION:University of Alberta\, 116 St & 85 Ave\, Edmonton\, Alberta\, 100012\, Canada
ATTACH;FMTTYPE=image/png:https://constructioncic.ca/wp-content/uploads/2023/03/CIC-Open-House-Poster-resize.png
END:VEVENT
END:VCALENDAR